Package: MGFR Version: 1.32.0 Command: rm -rf MGFR.buildbin-libdir && mkdir MGFR.buildbin-libdir && F:\biocbuild\bbs-3.20-bioc\R\bin\R.exe CMD INSTALL --build --library=MGFR.buildbin-libdir MGFR_1.32.0.tar.gz StartedAt: 2025-01-31 09:02:21 -0500 (Fri, 31 Jan 2025) EndedAt: 2025-01-31 09:02:39 -0500 (Fri, 31 Jan 2025) EllapsedTime: 18.6 seconds RetCode: 0 Status: OK PackageFile: MGFR_1.32.0.zip PackageFileSize: 2.452 MiB