Package: MGFR Version: 1.32.0 Command: chmod a+r MGFR -R && F:\biocbuild\bbs-3.20-bioc\R\bin\R.exe CMD build --keep-empty-dirs --no-resave-data MGFR StartedAt: 2025-01-30 20:05:58 -0500 (Thu, 30 Jan 2025) EndedAt: 2025-01-30 20:06:39 -0500 (Thu, 30 Jan 2025) EllapsedTime: 41.5 seconds RetCode: 0 Status: OK PackageFile: MGFR_1.32.0.tar.gz PackageFileSize: 1.635 MiB