Package: MGFR Version: 1.32.0 Command: /home/biocbuild/R/R/bin/R CMD build --keep-empty-dirs --no-resave-data MGFR StartedAt: 2025-02-04 00:55:41 -0000 (Tue, 04 Feb 2025) EndedAt: 2025-02-04 00:56:19 -0000 (Tue, 04 Feb 2025) EllapsedTime: 38.0 seconds RetCode: 0 Status: OK PackageFile: MGFR_1.32.0.tar.gz PackageFileSize: 1.816 MiB