Package: MGFR Version: 1.32.0 Command: /home/biocbuild/bbs-3.20-bioc/R/bin/R CMD build --keep-empty-dirs --no-resave-data MGFR StartedAt: 2024-11-19 20:02:55 -0500 (Tue, 19 Nov 2024) EndedAt: 2024-11-19 20:05:18 -0500 (Tue, 19 Nov 2024) EllapsedTime: 143.1 seconds RetCode: 0 Status: OK PackageFile: MGFR_1.32.0.tar.gz PackageFileSize: 1.825 MiB