Package: MGnifyR Version: 1.2.0 Command: rm -rf MGnifyR.buildbin-libdir && mkdir MGnifyR.buildbin-libdir && /Users/biocbuild/BBS/utils/build-universal.sh MGnifyR_1.2.0.tar.gz /Library/Frameworks/R.framework/Resources/bin/R MGnifyR.buildbin-libdir StartedAt: 2025-02-05 16:38:19 -0500 (Wed, 05 Feb 2025) EndedAt: 2025-02-05 16:39:15 -0500 (Wed, 05 Feb 2025) EllapsedTime: 55.4 seconds RetCode: 0 Status: OK PackageFile: MGnifyR_1.2.0.tgz PackageFileSize: 4.174 MiB