Package: MGnifyR Version: 1.2.0 Command: /Library/Frameworks/R.framework/Resources/bin/R CMD build --keep-empty-dirs --no-resave-data MGnifyR StartedAt: 2025-02-11 03:20:58 -0500 (Tue, 11 Feb 2025) EndedAt: 2025-02-11 03:22:33 -0500 (Tue, 11 Feb 2025) EllapsedTime: 95.0 seconds RetCode: 0 Status: OK PackageFile: MGnifyR_1.2.0.tar.gz PackageFileSize: 4.084 MiB