Package: MGnifyR Version: 1.2.0 Command: /Library/Frameworks/R.framework/Resources/bin/R CMD INSTALL MGnifyR StartedAt: 2025-02-03 17:50:13 -0500 (Mon, 03 Feb 2025) EndedAt: 2025-02-03 17:51:04 -0500 (Mon, 03 Feb 2025) EllapsedTime: 51.2 seconds RetCode: 0 Status: OK