Package: MGnifyR Version: 1.2.0 Command: rm -rf MGnifyR.buildbin-libdir && mkdir MGnifyR.buildbin-libdir && /Users/biocbuild/BBS/utils/build-universal.sh MGnifyR_1.2.0.tar.gz /Library/Frameworks/R.framework/Resources/bin/R MGnifyR.buildbin-libdir StartedAt: 2025-02-04 13:25:08 -0500 (Tue, 04 Feb 2025) EndedAt: 2025-02-04 13:27:29 -0500 (Tue, 04 Feb 2025) EllapsedTime: 141.1 seconds RetCode: 0 Status: OK PackageFile: MGnifyR_1.2.0.tgz PackageFileSize: 4.174 MiB