Package: MGnifyR Version: 1.2.0 Command: /Library/Frameworks/R.framework/Resources/bin/R CMD build --keep-empty-dirs --no-resave-data MGnifyR StartedAt: 2025-02-10 20:16:36 -0500 (Mon, 10 Feb 2025) EndedAt: 2025-02-10 20:19:54 -0500 (Mon, 10 Feb 2025) EllapsedTime: 197.5 seconds RetCode: 0 Status: OK PackageFile: MGnifyR_1.2.0.tar.gz PackageFileSize: 4.084 MiB