Package: MGnifyR Version: 1.2.0 Command: F:\biocbuild\bbs-3.20-bioc\R\bin\R.exe CMD check --no-multiarch --install=check:MGnifyR.install-out.txt --library=F:\biocbuild\bbs-3.20-bioc\R\library --no-vignettes --timings MGnifyR_1.2.0.tar.gz StartedAt: 2025-02-11 03:35:03 -0500 (Tue, 11 Feb 2025) EndedAt: 2025-02-11 03:47:49 -0500 (Tue, 11 Feb 2025) EllapsedTime: 765.6 seconds RetCode: 0 Status: OK CheckDir: MGnifyR.Rcheck Warnings: 0