Package: MICSQTL Version: 1.4.0 Command: rm -rf MICSQTL.buildbin-libdir && mkdir MICSQTL.buildbin-libdir && /Users/biocbuild/BBS/utils/build-universal.sh MICSQTL_1.4.0.tar.gz /Library/Frameworks/R.framework/Resources/bin/R MICSQTL.buildbin-libdir StartedAt: 2025-02-04 13:25:54 -0500 (Tue, 04 Feb 2025) EndedAt: 2025-02-04 13:27:22 -0500 (Tue, 04 Feb 2025) EllapsedTime: 87.8 seconds RetCode: 0 Status: OK PackageFile: MICSQTL_1.4.0.tgz PackageFileSize: 2.643 MiB