Package: MICSQTL Version: 1.4.0 Command: /Library/Frameworks/R.framework/Resources/bin/R CMD INSTALL MICSQTL StartedAt: 2025-02-03 16:45:22 -0500 (Mon, 03 Feb 2025) EndedAt: 2025-02-03 16:46:19 -0500 (Mon, 03 Feb 2025) EllapsedTime: 56.8 seconds RetCode: 0 Status: OK