Package: MICSQTL Version: 1.4.0 Command: /home/biocbuild/bbs-3.20-bioc/R/bin/R CMD check --install=check:MICSQTL.install-out.txt --library=/home/biocbuild/bbs-3.20-bioc/R/site-library --timings MICSQTL_1.4.0.tar.gz StartedAt: 2025-02-04 00:08:35 -0500 (Tue, 04 Feb 2025) EndedAt: 2025-02-04 00:17:37 -0500 (Tue, 04 Feb 2025) EllapsedTime: 541.5 seconds RetCode: 0 Status: OK CheckDir: MICSQTL.Rcheck Warnings: 0