Package: MICSQTL Version: 1.4.0 Command: chmod a+r MICSQTL -R && F:\biocbuild\bbs-3.20-bioc\R\bin\R.exe CMD build --keep-empty-dirs --no-resave-data MICSQTL StartedAt: 2025-02-03 20:22:03 -0500 (Mon, 03 Feb 2025) EndedAt: 2025-02-03 20:23:34 -0500 (Mon, 03 Feb 2025) EllapsedTime: 91.7 seconds RetCode: 0 Status: OK PackageFile: MICSQTL_1.4.0.tar.gz PackageFileSize: 3.085 MiB