Package: MLInterfaces Version: 1.86.0 Command: /Library/Frameworks/R.framework/Resources/bin/R CMD INSTALL MLInterfaces StartedAt: 2025-02-10 17:24:46 -0500 (Mon, 10 Feb 2025) EndedAt: 2025-02-10 17:25:21 -0500 (Mon, 10 Feb 2025) EllapsedTime: 35.5 seconds RetCode: 0 Status: OK