Package: MLInterfaces Version: 1.86.0 Command: /Library/Frameworks/R.framework/Resources/bin/R CMD build --keep-empty-dirs --no-resave-data MLInterfaces StartedAt: 2025-02-03 20:23:37 -0500 (Mon, 03 Feb 2025) EndedAt: 2025-02-03 20:26:39 -0500 (Mon, 03 Feb 2025) EllapsedTime: 181.5 seconds RetCode: 0 Status: OK PackageFile: MLInterfaces_1.86.0.tar.gz PackageFileSize: 2.806 MiB