Package: MLInterfaces Version: 1.86.0 Command: /Library/Frameworks/R.framework/Resources/bin/R CMD check --install=check:MLInterfaces.install-out.txt --library=/Library/Frameworks/R.framework/Resources/library --no-vignettes --timings MLInterfaces_1.86.0.tar.gz StartedAt: 2025-02-04 06:31:28 -0500 (Tue, 04 Feb 2025) EndedAt: 2025-02-04 06:38:51 -0500 (Tue, 04 Feb 2025) EllapsedTime: 442.7 seconds RetCode: 0 Status: WARNINGS CheckDir: MLInterfaces.Rcheck Warnings: 1