Package: MLInterfaces Version: 1.86.0 Command: /home/biocbuild/bbs-3.20-bioc/R/bin/R CMD build --keep-empty-dirs --no-resave-data --md5 MLInterfaces StartedAt: 2025-02-03 18:16:06 -0500 (Mon, 03 Feb 2025) EndedAt: 2025-02-03 18:17:14 -0500 (Mon, 03 Feb 2025) EllapsedTime: 68.0 seconds RetCode: 0 Status: OK PackageFile: MLInterfaces_1.86.0.tar.gz PackageFileSize: 2.803 MiB