Package: MLInterfaces Version: 1.86.0 Command: F:\biocbuild\bbs-3.20-bioc\R\bin\R.exe CMD INSTALL MLInterfaces StartedAt: 2025-02-03 16:19:45 -0500 (Mon, 03 Feb 2025) EndedAt: 2025-02-03 16:21:00 -0500 (Mon, 03 Feb 2025) EllapsedTime: 74.4 seconds RetCode: 0 Status: OK