Package: MLP Version: 1.54.0 Command: /Library/Frameworks/R.framework/Resources/bin/R CMD check --install=check:MLP.install-out.txt --library=/Library/Frameworks/R.framework/Resources/library --no-vignettes --timings MLP_1.54.0.tar.gz StartedAt: 2025-02-01 01:36:14 -0500 (Sat, 01 Feb 2025) EndedAt: 2025-02-01 01:42:27 -0500 (Sat, 01 Feb 2025) EllapsedTime: 372.8 seconds RetCode: 1 Status: ERROR CheckDir: MLP.Rcheck Warnings: NA