Package: MLP Version: 1.54.0 Command: /Library/Frameworks/R.framework/Resources/bin/R CMD INSTALL MLP StartedAt: 2025-02-03 15:40:38 -0500 (Mon, 03 Feb 2025) EndedAt: 2025-02-03 15:40:46 -0500 (Mon, 03 Feb 2025) EllapsedTime: 7.8 seconds RetCode: 0 Status: OK