Package: MLP Version: 1.54.0 Command: /home/biocbuild/bbs-3.20-bioc/R/bin/R CMD check --install=check:MLP.install-out.txt --library=/home/biocbuild/bbs-3.20-bioc/R/site-library --timings MLP_1.54.0.tar.gz StartedAt: 2025-01-31 00:04:29 -0500 (Fri, 31 Jan 2025) EndedAt: 2025-01-31 00:11:53 -0500 (Fri, 31 Jan 2025) EllapsedTime: 443.4 seconds RetCode: 0 Status: OK CheckDir: MLP.Rcheck Warnings: 0