Package: MLP Version: 1.54.0 Command: /home/biocbuild/bbs-3.20-bioc/R/bin/R CMD INSTALL MLP StartedAt: 2025-01-30 15:19:40 -0500 (Thu, 30 Jan 2025) EndedAt: 2025-01-30 15:19:51 -0500 (Thu, 30 Jan 2025) EllapsedTime: 11.3 seconds RetCode: 0 Status: OK