Package: MLP Version: 1.54.0 Command: chmod a+r MLP -R && F:\biocbuild\bbs-3.20-bioc\R\bin\R.exe CMD build --keep-empty-dirs --no-resave-data MLP StartedAt: 2025-01-30 20:11:49 -0500 (Thu, 30 Jan 2025) EndedAt: 2025-01-30 20:13:30 -0500 (Thu, 30 Jan 2025) EllapsedTime: 100.4 seconds RetCode: 0 Status: OK PackageFile: MLP_1.54.0.tar.gz PackageFileSize: 4.138 MiB