Package: MLP Version: 1.54.0 Command: /home/biocbuild/R/R/bin/R CMD build --keep-empty-dirs --no-resave-data MLP StartedAt: 2025-01-31 00:59:12 -0000 (Fri, 31 Jan 2025) EndedAt: 2025-01-31 01:00:11 -0000 (Fri, 31 Jan 2025) EllapsedTime: 59.0 seconds RetCode: 0 Status: OK PackageFile: MLP_1.54.0.tar.gz PackageFileSize: 4.277 MiB