Package: MLP Version: 1.54.0 Command: /home/biocbuild/R/R/bin/R CMD INSTALL MLP StartedAt: 2025-02-03 20:37:44 -0000 (Mon, 03 Feb 2025) EndedAt: 2025-02-03 20:38:00 -0000 (Mon, 03 Feb 2025) EllapsedTime: 15.8 seconds RetCode: 0 Status: OK