Package: MLSeq Version: 2.24.0 Command: /Library/Frameworks/R.framework/Resources/bin/R CMD check --install=check:MLSeq.install-out.txt --library=/Library/Frameworks/R.framework/Resources/library --no-vignettes --timings MLSeq_2.24.0.tar.gz StartedAt: 2025-01-31 06:39:01 -0500 (Fri, 31 Jan 2025) EndedAt: 2025-01-31 06:46:32 -0500 (Fri, 31 Jan 2025) EllapsedTime: 451.4 seconds RetCode: 0 Status: OK CheckDir: MLSeq.Rcheck Warnings: 0