Package: MLSeq Version: 2.24.0 Command: rm -rf MLSeq.buildbin-libdir && mkdir MLSeq.buildbin-libdir && F:\biocbuild\bbs-3.20-bioc\R\bin\R.exe CMD INSTALL --build --library=MLSeq.buildbin-libdir MLSeq_2.24.0.tar.gz StartedAt: 2025-01-31 09:04:29 -0500 (Fri, 31 Jan 2025) EndedAt: 2025-01-31 09:05:36 -0500 (Fri, 31 Jan 2025) EllapsedTime: 67.1 seconds RetCode: 0 Status: OK PackageFile: MLSeq_2.24.0.zip PackageFileSize: 1019 KiB