Package: MLSeq Version: 2.24.0 Command: /home/biocbuild/R/R/bin/R CMD build --keep-empty-dirs --no-resave-data MLSeq StartedAt: 2025-01-31 00:59:20 -0000 (Fri, 31 Jan 2025) EndedAt: 2025-01-31 01:01:27 -0000 (Fri, 31 Jan 2025) EllapsedTime: 127.0 seconds RetCode: 0 Status: OK PackageFile: MLSeq_2.24.0.tar.gz PackageFileSize: 626.9 KiB