Package: MLSeq Version: 2.24.0 Command: /home/biocbuild/R/R/bin/R CMD check --install=check:MLSeq.install-out.txt --library=/home/biocbuild/R/R/site-library --no-vignettes --timings MLSeq_2.24.0.tar.gz StartedAt: 2025-01-31 08:13:20 -0000 (Fri, 31 Jan 2025) EndedAt: 2025-01-31 08:17:35 -0000 (Fri, 31 Jan 2025) EllapsedTime: 255.4 seconds RetCode: 0 Status: OK CheckDir: MLSeq.Rcheck Warnings: 0