Package: MMDiff2 Version: 1.34.0 Command: /Library/Frameworks/R.framework/Resources/bin/R CMD check --install=check:MMDiff2.install-out.txt --library=/Library/Frameworks/R.framework/Resources/library --no-vignettes --timings MMDiff2_1.34.0.tar.gz StartedAt: 2025-02-05 02:21:56 -0500 (Wed, 05 Feb 2025) EndedAt: 2025-02-05 02:27:42 -0500 (Wed, 05 Feb 2025) EllapsedTime: 346.1 seconds RetCode: 0 Status: OK CheckDir: MMDiff2.Rcheck Warnings: 0