Package: MMDiff2 Version: 1.34.0 Command: /Library/Frameworks/R.framework/Resources/bin/R CMD INSTALL MMDiff2 StartedAt: 2025-02-03 16:35:04 -0500 (Mon, 03 Feb 2025) EndedAt: 2025-02-03 16:35:49 -0500 (Mon, 03 Feb 2025) EllapsedTime: 44.8 seconds RetCode: 0 Status: OK