Package: MMDiff2 Version: 1.34.0 Command: /Library/Frameworks/R.framework/Resources/bin/R CMD build --keep-empty-dirs --no-resave-data MMDiff2 StartedAt: 2025-02-03 20:24:03 -0500 (Mon, 03 Feb 2025) EndedAt: 2025-02-03 20:28:02 -0500 (Mon, 03 Feb 2025) EllapsedTime: 238.8 seconds RetCode: 0 Status: OK PackageFile: MMDiff2_1.34.0.tar.gz PackageFileSize: 2.868 MiB