Package: MMDiff2 Version: 1.34.0 Command: /Library/Frameworks/R.framework/Resources/bin/R CMD INSTALL MMDiff2 StartedAt: 2025-02-03 16:01:56 -0500 (Mon, 03 Feb 2025) EndedAt: 2025-02-03 16:03:14 -0500 (Mon, 03 Feb 2025) EllapsedTime: 78.0 seconds RetCode: 0 Status: OK