Package: MMDiff2 Version: 1.34.0 Command: rm -rf MMDiff2.buildbin-libdir && mkdir MMDiff2.buildbin-libdir && F:\biocbuild\bbs-3.20-bioc\R\bin\R.exe CMD INSTALL --build --library=MMDiff2.buildbin-libdir MMDiff2_1.34.0.tar.gz StartedAt: 2025-02-04 08:57:28 -0500 (Tue, 04 Feb 2025) EndedAt: 2025-02-04 08:58:19 -0500 (Tue, 04 Feb 2025) EllapsedTime: 51.7 seconds RetCode: 0 Status: OK PackageFile: MMDiff2_1.34.0.zip PackageFileSize: 3.076 MiB