Package: MMDiff2 Version: 1.34.0 Command: /home/biocbuild/R/R/bin/R CMD INSTALL MMDiff2 StartedAt: 2025-02-03 20:54:41 -0000 (Mon, 03 Feb 2025) EndedAt: 2025-02-03 20:55:27 -0000 (Mon, 03 Feb 2025) EllapsedTime: 46.3 seconds RetCode: 0 Status: OK