Package: MODA Version: 1.32.0 Command: /Library/Frameworks/R.framework/Resources/bin/R CMD check --install=check:MODA.install-out.txt --library=/Library/Frameworks/R.framework/Resources/library --no-vignettes --timings MODA_1.32.0.tar.gz StartedAt: 2025-02-05 02:24:47 -0500 (Wed, 05 Feb 2025) EndedAt: 2025-02-05 02:27:10 -0500 (Wed, 05 Feb 2025) EllapsedTime: 142.8 seconds RetCode: 0 Status: OK CheckDir: MODA.Rcheck Warnings: 0