Package: MODA Version: 1.32.0 Command: rm -rf MODA.buildbin-libdir && mkdir MODA.buildbin-libdir && /Users/biocbuild/BBS/utils/build-universal.sh MODA_1.32.0.tar.gz /Library/Frameworks/R.framework/Resources/bin/R MODA.buildbin-libdir StartedAt: 2025-02-04 13:28:38 -0500 (Tue, 04 Feb 2025) EndedAt: 2025-02-04 13:29:45 -0500 (Tue, 04 Feb 2025) EllapsedTime: 67.4 seconds RetCode: 0 Status: OK PackageFile: MODA_1.32.0.tgz PackageFileSize: 358.8 KiB