Package: MOSClip Version: 1.0.0 Command: /Library/Frameworks/R.framework/Resources/bin/R CMD build --keep-empty-dirs --no-resave-data MOSClip StartedAt: 2025-01-31 03:49:58 -0500 (Fri, 31 Jan 2025) EndedAt: 2025-01-31 03:51:43 -0500 (Fri, 31 Jan 2025) EllapsedTime: 104.7 seconds RetCode: 0 Status: OK PackageFile: MOSClip_1.0.0.tar.gz PackageFileSize: 2.137 MiB