Package: MOSClip Version: 1.0.0 Command: rm -rf MOSClip.buildbin-libdir && mkdir MOSClip.buildbin-libdir && F:\biocbuild\bbs-3.20-bioc\R\bin\R.exe CMD INSTALL --build --library=MOSClip.buildbin-libdir MOSClip_1.0.0.tar.gz StartedAt: 2025-02-11 08:55:51 -0500 (Tue, 11 Feb 2025) EndedAt: 2025-02-11 08:57:10 -0500 (Tue, 11 Feb 2025) EllapsedTime: 79.5 seconds RetCode: 0 Status: OK PackageFile: MOSClip_1.0.0.zip PackageFileSize: 1.547 MiB