Package: MOSClip Version: 1.0.0 Command: chmod a+r MOSClip -R && F:\biocbuild\bbs-3.20-bioc\R\bin\R.exe CMD build --keep-empty-dirs --no-resave-data MOSClip StartedAt: 2025-02-03 20:30:22 -0500 (Mon, 03 Feb 2025) EndedAt: 2025-02-03 20:32:58 -0500 (Mon, 03 Feb 2025) EllapsedTime: 156.0 seconds RetCode: 0 Status: OK PackageFile: MOSClip_1.0.0.tar.gz PackageFileSize: 1.26 MiB