Package: MOSClip Version: 1.0.0 Command: F:\biocbuild\bbs-3.20-bioc\R\bin\R.exe CMD check --no-multiarch --install=check:MOSClip.install-out.txt --library=F:\biocbuild\bbs-3.20-bioc\R\library --no-vignettes --timings MOSClip_1.0.0.tar.gz StartedAt: 2025-02-11 03:52:03 -0500 (Tue, 11 Feb 2025) EndedAt: 2025-02-11 04:01:24 -0500 (Tue, 11 Feb 2025) EllapsedTime: 561.6 seconds RetCode: 0 Status: OK CheckDir: MOSClip.Rcheck Warnings: 0