Package: MOSClip Version: 1.0.0 Command: /home/biocbuild/R/R/bin/R CMD build --keep-empty-dirs --no-resave-data MOSClip StartedAt: 2025-02-04 01:07:52 -0000 (Tue, 04 Feb 2025) EndedAt: 2025-02-04 01:09:45 -0000 (Tue, 04 Feb 2025) EllapsedTime: 113.0 seconds RetCode: 0 Status: OK PackageFile: MOSClip_1.0.0.tar.gz PackageFileSize: 1.299 MiB