Package: MOSClip Version: 1.0.0 Command: /home/biocbuild/R/R/bin/R CMD INSTALL MOSClip StartedAt: 2025-02-03 21:22:55 -0000 (Mon, 03 Feb 2025) EndedAt: 2025-02-03 21:23:56 -0000 (Mon, 03 Feb 2025) EllapsedTime: 60.9 seconds RetCode: 0 Status: OK