Package: MPFE Version: 1.42.0 Command: /Library/Frameworks/R.framework/Resources/bin/R CMD check --install=check:MPFE.install-out.txt --library=/Library/Frameworks/R.framework/Resources/library --no-vignettes --timings MPFE_1.42.0.tar.gz StartedAt: 2025-02-01 02:11:55 -0500 (Sat, 01 Feb 2025) EndedAt: 2025-02-01 02:12:18 -0500 (Sat, 01 Feb 2025) EllapsedTime: 23.8 seconds RetCode: 0 Status: OK CheckDir: MPFE.Rcheck Warnings: 0