Package: MPFE Version: 1.42.0 Command: /Library/Frameworks/R.framework/Resources/bin/R CMD INSTALL MPFE StartedAt: 2025-02-03 15:10:03 -0500 (Mon, 03 Feb 2025) EndedAt: 2025-02-03 15:10:05 -0500 (Mon, 03 Feb 2025) EllapsedTime: 2.6 seconds RetCode: 0 Status: OK