Package: MPFE Version: 1.42.0 Command: /home/biocbuild/bbs-3.20-bioc/R/bin/R CMD check --install=check:MPFE.install-out.txt --library=/home/biocbuild/bbs-3.20-bioc/R/site-library --timings MPFE_1.42.0.tar.gz StartedAt: 2025-02-04 00:23:20 -0500 (Tue, 04 Feb 2025) EndedAt: 2025-02-04 00:23:38 -0500 (Tue, 04 Feb 2025) EllapsedTime: 18.0 seconds RetCode: 0 Status: OK CheckDir: MPFE.Rcheck Warnings: 0