Package: MPFE Version: 1.42.0 Command: rm -rf MPFE.buildbin-libdir && mkdir MPFE.buildbin-libdir && F:\biocbuild\bbs-3.20-bioc\R\bin\R.exe CMD INSTALL --build --library=MPFE.buildbin-libdir MPFE_1.42.0.tar.gz StartedAt: 2025-02-04 08:59:28 -0500 (Tue, 04 Feb 2025) EndedAt: 2025-02-04 08:59:32 -0500 (Tue, 04 Feb 2025) EllapsedTime: 3.7 seconds RetCode: 0 Status: OK PackageFile: MPFE_1.42.0.zip PackageFileSize: 131.6 KiB