Package: MPFE Version: 1.42.0 Command: chmod a+r MPFE -R && F:\biocbuild\bbs-3.20-bioc\R\bin\R.exe CMD build --keep-empty-dirs --no-resave-data MPFE StartedAt: 2025-02-03 20:33:47 -0500 (Mon, 03 Feb 2025) EndedAt: 2025-02-03 20:33:57 -0500 (Mon, 03 Feb 2025) EllapsedTime: 9.0 seconds RetCode: 0 Status: OK PackageFile: MPFE_1.42.0.tar.gz PackageFileSize: 102.8 KiB