Package: MPFE Version: 1.42.0 Command: /home/biocbuild/R/R/bin/R CMD build --keep-empty-dirs --no-resave-data MPFE StartedAt: 2025-01-31 01:07:46 -0000 (Fri, 31 Jan 2025) EndedAt: 2025-01-31 01:07:51 -0000 (Fri, 31 Jan 2025) EllapsedTime: 5.0 seconds RetCode: 0 Status: OK PackageFile: MPFE_1.42.0.tar.gz PackageFileSize: 183.2 KiB